BEGIN:VCALENDAR
VERSION:2.0
PRODID:-//eventon.com NONSGML v1.0//EN
CALSCALE:GREGORIAN
METHOD:PUBLISH
BEGIN:VEVENT
UID:69e78279da876
DTSTAMP:20260421T135817Z
DTSTART:20250501T170000Z
DTEND:20250501T215000Z
LOCATION:
SUMMARY:Jérémy Bruger Trio @ L'Endroit / Honfleur (14)
DESCRIPTION:w/ Jean-Michel Charbonnel (cb) & Grégory Serrier (b)\nhttps://
 jeremybruger.fr/concert/jeremy-bruger-trio-lendroit-honfleur-14-3/
URL:https://jeremybruger.fr/concert/jeremy-bruger-trio-lendroit-honfleur-14-3/
END:VEVENT
END:VCALENDAR