BEGIN:VCALENDAR
VERSION:2.0
PRODID:-//eventon.com NONSGML v1.0//EN
CALSCALE:GREGORIAN
METHOD:PUBLISH
BEGIN:VEVENT
UID:69e782a2baf35
DTSTAMP:20260421T135858Z
DTSTART:20260110T194500Z
DTEND:20260110T225000Z
LOCATION:
SUMMARY:Julien Daïan Quintet @ Caveau des Oubliettes (Paris 5ème)
DESCRIPTION:Julien Daïan Quintet @ Caveau des Oubliettes (Paris 5ème)\nht
 tps://jeremybruger.fr/concert/julien-daian-quintet-caveau-des-oubliettes-pa
 ris-5eme-copy/
URL:https://jeremybruger.fr/concert/julien-daian-quintet-caveau-des-oubliettes-paris-5eme-copy/
END:VEVENT
END:VCALENDAR