BEGIN:VCALENDAR
VERSION:2.0
PRODID:-//eventon.com NONSGML v1.0//EN
CALSCALE:GREGORIAN
METHOD:PUBLISH
BEGIN:VEVENT
UID:69e781fceea5d
DTSTAMP:20260421T135612Z
DTSTART:20260116T190000Z
DTEND:20260116T225000Z
LOCATION:
SUMMARY:Pierre Malon Duo @ Grands Bassins / Le Havre (76)
DESCRIPTION:Pierre Malon Duo @ Grands Bassins / Le Havre (76)\nhttps://jere
 mybruger.fr/concert/pierre-malon-duo-grands-bassins-le-havre-76/
URL:https://jeremybruger.fr/concert/pierre-malon-duo-grands-bassins-le-havre-76/
END:VEVENT
END:VCALENDAR