BEGIN:VCALENDAR
VERSION:2.0
PRODID:-//eventon.com NONSGML v1.0//EN
CALSCALE:GREGORIAN
METHOD:PUBLISH
BEGIN:VEVENT
UID:69e76ffeba07b
DTSTAMP:20260421T123926Z
DTSTART:20260117T181500Z
DTEND:20260117T225000Z
LOCATION:
SUMMARY:Cécile Charbonnel Duo @ Forges Hôtel / Forges-les-Eaux (76)
DESCRIPTION:Cécile Charbonnel Duo @ Forges Hôtel / Forges-les-Eaux (76)\n
 https://jeremybruger.fr/concert/cecile-charbonnel-duo-forges-hotel-forges-l
 es-eaux-76/
URL:https://jeremybruger.fr/concert/cecile-charbonnel-duo-forges-hotel-forges-les-eaux-76/
END:VEVENT
END:VCALENDAR