BEGIN:VCALENDAR
VERSION:2.0
PRODID:-//eventon.com NONSGML v1.0//EN
CALSCALE:GREGORIAN
METHOD:PUBLISH
BEGIN:VEVENT
UID:69e77027a8a64
DTSTAMP:20260421T124007Z
DTSTART:20260123T181500Z
DTEND:20260123T225000Z
LOCATION:
SUMMARY:Jérémy Bruger Trio @ 38Riv' / Paris (1er)
DESCRIPTION:w/ Yoni Zelnik (cb) & Donald Kontomanou (b)\nhttps://jeremybrug
 er.fr/concert/jeremy-bruger-trio-38riv-paris-1er/
URL:https://jeremybruger.fr/concert/jeremy-bruger-trio-38riv-paris-1er/
END:VEVENT
END:VCALENDAR