BEGIN:VCALENDAR
VERSION:2.0
PRODID:-//eventon.com NONSGML v1.0//EN
CALSCALE:GREGORIAN
METHOD:PUBLISH
BEGIN:VEVENT
UID:69e78202632a5
DTSTAMP:20260421T135618Z
DTSTART:20260213T113000Z
DTEND:20260213T225000Z
LOCATION:
SUMMARY:Jérémy Bruger Trio @ Conservatoire Arthur Honegger / Le Havre (76)
DESCRIPTION:w/ Yoni Zelnik (cb) & Donald Kontomanou (b) 2 sets : 12h30 + 18
 h30\nhttps://jeremybruger.fr/concert/jeremy-bruger-trio-conservatoire-arthu
 r-honegger-le-havre-76/
URL:https://jeremybruger.fr/concert/jeremy-bruger-trio-conservatoire-arthur-honegger-le-havre-76/
END:VEVENT
END:VCALENDAR