BEGIN:VCALENDAR
VERSION:2.0
PRODID:-//eventon.com NONSGML v1.0//EN
CALSCALE:GREGORIAN
METHOD:PUBLISH
BEGIN:VEVENT
UID:69e7823186c95
DTSTAMP:20260421T135705Z
DTSTART:20260326T183000Z
DTEND:20260326T225000Z
LOCATION:
SUMMARY:Jérémy Bruger Trio @ Jass Club / Paris (13ème)
DESCRIPTION:w/ Yoni Zelnik (cb) & Antoine Paganotti (b) 2 sets : 19h30 + 21
 h30\nhttps://jeremybruger.fr/concert/jeremy-bruger-trio-jass-club-paris-13e
 me/
URL:https://jeremybruger.fr/concert/jeremy-bruger-trio-jass-club-paris-13eme/
END:VEVENT
END:VCALENDAR