BEGIN:VCALENDAR
VERSION:2.0
PRODID:-//eventon.com NONSGML v1.0//EN
CALSCALE:GREGORIAN
METHOD:PUBLISH
BEGIN:VEVENT
UID:69e7825a5f9f5
DTSTAMP:20260421T135746Z
DTSTART:20260327T193000Z
DTEND:20260327T225000Z
LOCATION:
SUMMARY:Jérémy Bruger Trio @ Le Solar / Saint-Étienne (42)
DESCRIPTION:w/ Yoni Zelnik (cb) & Antoine Paganotti (b)\nhttps://jeremybrug
 er.fr/concert/jeremy-bruger-trio-le-solar-saint-etienne-42/
URL:https://jeremybruger.fr/concert/jeremy-bruger-trio-le-solar-saint-etienne-42/
END:VEVENT
END:VCALENDAR