BEGIN:VCALENDAR
VERSION:2.0
PRODID:-//eventon.com NONSGML v1.0//EN
CALSCALE:GREGORIAN
METHOD:PUBLISH
BEGIN:VEVENT
UID:69e7706207136
DTSTAMP:20260421T124106Z
DTSTART:20260328T193000Z
DTEND:20260328T225000Z
LOCATION:
SUMMARY:Jérémy Bruger Trio @ Hot-Club de Lyon (69)
DESCRIPTION:w/ Yoni Zelnik (cb) & Antoine Paganotti (b)\nhttps://jeremybrug
 er.fr/concert/jeremy-bruger-trio-hot-club-de-lyon-69/
URL:https://jeremybruger.fr/concert/jeremy-bruger-trio-hot-club-de-lyon-69/
END:VEVENT
END:VCALENDAR