BEGIN:VCALENDAR
VERSION:2.0
PRODID:-//eventon.com NONSGML v1.0//EN
CALSCALE:GREGORIAN
METHOD:PUBLISH
BEGIN:VEVENT
UID:69e7704ccbc21
DTSTAMP:20260421T124044Z
DTSTART:20260329T160000Z
DTEND:20260329T215000Z
LOCATION:
SUMMARY:Jérémy Bruger Trio @ Trinquette Jazz-Club / Villefranche-sur-Mer (06)
DESCRIPTION:w/ Yoni Zelnik (cb) & Antoine Paganotti (b)\nhttps://jeremybrug
 er.fr/concert/jeremy-bruger-trio-trinquette-jazz-club-villefranche-sur-mer-
 06/
URL:https://jeremybruger.fr/concert/jeremy-bruger-trio-trinquette-jazz-club-villefranche-sur-mer-06/
END:VEVENT
END:VCALENDAR