BEGIN:VCALENDAR
VERSION:2.0
PRODID:-//eventon.com NONSGML v1.0//EN
CALSCALE:GREGORIAN
METHOD:PUBLISH
BEGIN:VEVENT
UID:69e76fcb7d3e0
DTSTAMP:20260421T123835Z
DTSTART:20260330T183000Z
DTEND:20260330T215000Z
LOCATION:
SUMMARY:Jérémy Bruger Trio @ Club 27 / Marseille (13)
DESCRIPTION:w/ Yoni Zelnik (cb) & Antoine Paganotti (b)\nhttps://jeremybrug
 er.fr/concert/jeremy-bruger-trio-club-27-marseille-13/
URL:https://jeremybruger.fr/concert/jeremy-bruger-trio-club-27-marseille-13/
END:VEVENT
END:VCALENDAR