BEGIN:VCALENDAR
VERSION:2.0
PRODID:-//eventon.com NONSGML v1.0//EN
CALSCALE:GREGORIAN
METHOD:PUBLISH
BEGIN:VEVENT
UID:69e7819ad1462
DTSTAMP:20260421T135434Z
DTSTART:20251205T183000Z
DTEND:20251205T225000Z
LOCATION:
SUMMARY:Jérémy Bruger Solo @ Cures Marines / Trouville (14)
DESCRIPTION:\nhttps://jeremybruger.fr/concert/jeremy-bruger-solo-cures-mari
 nes-trouville-14-2/
URL:https://jeremybruger.fr/concert/jeremy-bruger-solo-cures-marines-trouville-14-2/
END:VEVENT
END:VCALENDAR