BEGIN:VCALENDAR
VERSION:2.0
PRODID:-//eventon.com NONSGML v1.0//EN
CALSCALE:GREGORIAN
METHOD:PUBLISH
BEGIN:VEVENT
UID:69e781f8a668f
DTSTAMP:20260421T135608Z
DTSTART:20250502T180000Z
DTEND:20250502T215000Z
LOCATION:
SUMMARY:Jérémy Bruger Trio @ L'Endroit / Honfleur (14)
DESCRIPTION:w/ Jean-Michel Charbonnel (cb) & Grégory Serrier (b)\nhttps://
 jeremybruger.fr/concert/jeremy-bruger-trio-lendroit-honfleur-14-4/
URL:https://jeremybruger.fr/concert/jeremy-bruger-trio-lendroit-honfleur-14-4/
END:VEVENT
END:VCALENDAR