BEGIN:VCALENDAR
VERSION:2.0
PRODID:-//eventon.com NONSGML v1.0//EN
CALSCALE:GREGORIAN
METHOD:PUBLISH
BEGIN:VEVENT
UID:69e76fcc187ae
DTSTAMP:20260421T123836Z
DTSTART:20250711T183000Z
DTEND:20250717T215000Z
LOCATION:
SUMMARY:Julien Daïan Quintet (feat. Winston McAnuff) @ Vannes Échos Jazz Festival / Vannes (56)
DESCRIPTION:Julien Daïan Quintet (feat. Winston McAnuff) @ Vannes Échos J
 azz Festival / Vannes (56)\nhttps://jeremybruger.fr/concert/julien-daian-qu
 intet-feat-winston-mcanuff-vannes-echos-jazz-festival-vannes-56/
URL:https://jeremybruger.fr/concert/julien-daian-quintet-feat-winston-mcanuff-vannes-echos-jazz-festival-vannes-56/
END:VEVENT
END:VCALENDAR