BEGIN:VCALENDAR
VERSION:2.0
PRODID:-//eventon.com NONSGML v1.0//EN
CALSCALE:GREGORIAN
METHOD:PUBLISH
BEGIN:VEVENT
UID:69e781a539eab
DTSTAMP:20260421T135445Z
DTSTART:20251202T173000Z
DTEND:20251202T225000Z
LOCATION:
SUMMARY:Lionel Boccara Trio @ Cercle des Armées / Paris (8ème)
DESCRIPTION:w/ Yoni Zelnik (cb) & Lionel Boccara (b)\nhttps://jeremybruger.
 fr/concert/lionel-boccara-trio-cercle-des-armees-paris-8eme/
URL:https://jeremybruger.fr/concert/lionel-boccara-trio-cercle-des-armees-paris-8eme/
END:VEVENT
END:VCALENDAR