BEGIN:VCALENDAR
VERSION:2.0
PRODID:-//eventon.com NONSGML v1.0//EN
CALSCALE:GREGORIAN
METHOD:PUBLISH
BEGIN:VEVENT
UID:69e76f284ca5b
DTSTAMP:20260421T123552Z
DTSTART:20251203T193000Z
DTEND:20251203T225000Z
LOCATION:
SUMMARY:Mina Agossi Trio @ 606 Jazz-Club / London (ENG)
DESCRIPTION:w/ Mina Agossi (vcl) & Éric Jacot (cb)\nhttps://jeremybruger.f
 r/concert/mina-agossi-trio-606-jazz-club-london-eng/
URL:https://jeremybruger.fr/concert/mina-agossi-trio-606-jazz-club-london-eng/
END:VEVENT
END:VCALENDAR