BEGIN:VCALENDAR
VERSION:2.0
PRODID:-//eventon.com NONSGML v1.0//EN
CALSCALE:GREGORIAN
METHOD:PUBLISH
BEGIN:VEVENT
UID:69e76ffe0c905
DTSTAMP:20260421T123926Z
DTSTART:20251225T113000Z
DTEND:20251225T225000Z
LOCATION:
SUMMARY:Jérémy Bruger Solo @ Grand Hôtel de Cabourg / Cabourg (14)
DESCRIPTION:\nhttps://jeremybruger.fr/concert/jeremy-bruger-solo-grand-hote
 l-de-cabourg-cabourg-14/
URL:https://jeremybruger.fr/concert/jeremy-bruger-solo-grand-hotel-de-cabourg-cabourg-14/
END:VEVENT
END:VCALENDAR