BEGIN:VCALENDAR
VERSION:2.0
PRODID:-//eventon.com NONSGML v1.0//EN
CALSCALE:GREGORIAN
METHOD:PUBLISH
BEGIN:VEVENT
UID:69e76f8be0a54
DTSTAMP:20260421T123731Z
DTSTART:20251115T190000Z
DTEND:20251115T225000Z
LOCATION:
SUMMARY:Jean-Baptiste Gaudray Duo @ Grands Bassins / Le Havre (76)
DESCRIPTION:Jean-Baptiste Gaudray Duo @ Grands Bassins / Le Havre (76)\nhtt
 ps://jeremybruger.fr/concert/jean-baptiste-gaudray-duo-grands-bassins-le-ha
 vre-76/
URL:https://jeremybruger.fr/concert/jean-baptiste-gaudray-duo-grands-bassins-le-havre-76/
END:VEVENT
END:VCALENDAR