BEGIN:VCALENDAR
VERSION:2.0
PRODID:-//eventon.com NONSGML v1.0//EN
CALSCALE:GREGORIAN
METHOD:PUBLISH
BEGIN:VEVENT
UID:69e781f92a0a7
DTSTAMP:20260421T135609Z
DTSTART:20251108T173000Z
DTEND:20251108T225000Z
LOCATION:
SUMMARY:Jérémy Bruger Trio @ Les Pianos / Montreuil (93)
DESCRIPTION:w/ Duylinh Nguyen (cb) & Olivier Robin (b)\nhttps://jeremybruge
 r.fr/concert/jeremy-bruger-trio-les-pianos-montreuil-93/
URL:https://jeremybruger.fr/concert/jeremy-bruger-trio-les-pianos-montreuil-93/
END:VEVENT
END:VCALENDAR