BEGIN:VCALENDAR
VERSION:2.0
PRODID:-//eventon.com NONSGML v1.0//EN
CALSCALE:GREGORIAN
METHOD:PUBLISH
BEGIN:VEVENT
UID:69e781a9bf1ba
DTSTAMP:20260421T135449Z
DTSTART:20251024T183000Z
DTEND:20251024T215000Z
LOCATION:
SUMMARY:Julien Daïan Quintet @ Sunset / Paris (1er)
DESCRIPTION:Julien Daïan Quintet @ Sunset / Paris (1er)\nhttps://jeremybru
 ger.fr/concert/julien-daian-quintet-sunset-paris-1er/
URL:https://jeremybruger.fr/concert/julien-daian-quintet-sunset-paris-1er/
END:VEVENT
END:VCALENDAR