BEGIN:VCALENDAR
VERSION:2.0
PRODID:-//eventon.com NONSGML v1.0//EN
CALSCALE:GREGORIAN
METHOD:PUBLISH
BEGIN:VEVENT
UID:69e76f6717e22
DTSTAMP:20260421T123655Z
DTSTART:20250704T183000Z
DTEND:20250704T215000Z
LOCATION:
SUMMARY:Jérémy Bruger Trio @ Chez Papa / Paris (6ème)
DESCRIPTION:w/ Duylinh Nguyen (cb) & Olivier Robin (b)\nhttps://jeremybruge
 r.fr/concert/jeremy-bruger-trio-le-prisme-elancourt-78/
URL:https://jeremybruger.fr/concert/jeremy-bruger-trio-le-prisme-elancourt-78/
END:VEVENT
END:VCALENDAR