BEGIN:VCALENDAR
VERSION:2.0
PRODID:-//eventon.com NONSGML v1.0//EN
CALSCALE:GREGORIAN
METHOD:PUBLISH
BEGIN:VEVENT
UID:69e781d8e0f08
DTSTAMP:20260421T135536Z
DTSTART:20250924T183000Z
DTEND:20250924T215000Z
LOCATION:
SUMMARY:Jérémy Bruger Trio @ Minifest\,  El Camino / Caen (14)
DESCRIPTION:w/ Yoni Zelnik (cb) & Antoine Paganotti (b)\nhttps://jeremybrug
 er.fr/concert/jeremy-bruger-trio-minifest-el-camino-caen-14/
URL:https://jeremybruger.fr/concert/jeremy-bruger-trio-minifest-el-camino-caen-14/
END:VEVENT
END:VCALENDAR