BEGIN:VCALENDAR
VERSION:2.0
PRODID:-//eventon.com NONSGML v1.0//EN
CALSCALE:GREGORIAN
METHOD:PUBLISH
BEGIN:VEVENT
UID:69e781f8a6efb
DTSTAMP:20260421T135608Z
DTSTART:20250918T190000Z
DTEND:20250918T215000Z
LOCATION:
SUMMARY:Jérémy Bruger Trio @ Sunside / Paris (1er)
DESCRIPTION:w/ Yoni Zelnik (cb) & Antoine Paganotti (b)\nhttps://jeremybrug
 er.fr/concert/jeremy-bruger-trio-sunside-paris-1er/
URL:https://jeremybruger.fr/concert/jeremy-bruger-trio-sunside-paris-1er/
END:VEVENT
END:VCALENDAR