BEGIN:VCALENDAR
VERSION:2.0
PRODID:-//eventon.com NONSGML v1.0//EN
CALSCALE:GREGORIAN
METHOD:PUBLISH
BEGIN:VEVENT
UID:69e7819b61892
DTSTAMP:20260421T135435Z
DTSTART:20250705T183000Z
DTEND:20250705T215000Z
LOCATION:
SUMMARY:Jérémy Bruger Trio @ Chez Papa / Paris (6ème)
DESCRIPTION:w/ Duylinh Nguyen (cb) & Olivier Robin (b)\nhttps://jeremybruge
 r.fr/concert/jeremy-bruger-trio-chez-papa-paris-6eme/
URL:https://jeremybruger.fr/concert/jeremy-bruger-trio-chez-papa-paris-6eme/
END:VEVENT
END:VCALENDAR