BEGIN:VCALENDAR
VERSION:2.0
PRODID:-//eventon.com NONSGML v1.0//EN
CALSCALE:GREGORIAN
METHOD:PUBLISH
BEGIN:VEVENT
UID:69e77013ace57
DTSTAMP:20260421T123947Z
DTSTART:20250717T183000Z
DTEND:20250717T215000Z
LOCATION:
SUMMARY:Mind Watcher @ Terrasses du Jeudi / Rouen (76)
DESCRIPTION:w/ Thomas Gaucher (gt) / Clément Landais (cb) & Malte Arndal (
 b)\nhttps://jeremybruger.fr/concert/mind-watcher-terrasses-du-jeudi-rouen-7
 6/
URL:https://jeremybruger.fr/concert/mind-watcher-terrasses-du-jeudi-rouen-76/
END:VEVENT
END:VCALENDAR