BEGIN:VCALENDAR
VERSION:2.0
PRODID:-//eventon.com NONSGML v1.0//EN
CALSCALE:GREGORIAN
METHOD:PUBLISH
BEGIN:VEVENT
UID:69e7824b45037
DTSTAMP:20260421T135731Z
DTSTART:20250606T184500Z
DTEND:20250606T215000Z
LOCATION:
SUMMARY:Julien Daïan Quintet @ Caveau des Oubliettes (Paris 5ème)
DESCRIPTION:Julien Daïan Quintet @ Caveau des Oubliettes (Paris 5ème)\nht
 tps://jeremybruger.fr/concert/julien-daian-quintet-caveau-des-oubliettes-pa
 ris-5eme-2/
URL:https://jeremybruger.fr/concert/julien-daian-quintet-caveau-des-oubliettes-paris-5eme-2/
END:VEVENT
END:VCALENDAR