BEGIN:VCALENDAR
VERSION:2.0
PRODID:-//eventon.com NONSGML v1.0//EN
CALSCALE:GREGORIAN
METHOD:PUBLISH
BEGIN:VEVENT
UID:69e7704ccc036
DTSTAMP:20260421T124044Z
DTSTART:20250607T184500Z
DTEND:20250607T215000Z
LOCATION:
SUMMARY:Julien Daïan Quintet @ Caveau des Oubliettes (Paris 5ème)
DESCRIPTION:Julien Daïan Quintet @ Caveau des Oubliettes (Paris 5ème)\nht
 tps://jeremybruger.fr/concert/julien-daian-quintet-caveau-des-oubliettes-pa
 ris-5eme-3/
URL:https://jeremybruger.fr/concert/julien-daian-quintet-caveau-des-oubliettes-paris-5eme-3/
END:VEVENT
END:VCALENDAR