BEGIN:VCALENDAR
VERSION:2.0
PRODID:-//eventon.com NONSGML v1.0//EN
CALSCALE:GREGORIAN
METHOD:PUBLISH
BEGIN:VEVENT
UID:69e76f5cc0838
DTSTAMP:20260421T123644Z
DTSTART:20250621T183000Z
DTEND:20250621T215000Z
LOCATION:
SUMMARY:Maxime Jean-Louis Quartet @ Le Nida / Issy-les-Moulineaux (92)
DESCRIPTION:w/ Maxime Jean-Louis (ts) / Juan-Sebastian Gimenez (cb) & Franc
 k Filosa (b)\nhttps://jeremybruger.fr/concert/mina-agossi-quartet-internati
 onal-piano-jazz-festival-baku-az/
URL:https://jeremybruger.fr/concert/mina-agossi-quartet-international-piano-jazz-festival-baku-az/
END:VEVENT
END:VCALENDAR