BEGIN:VCALENDAR
VERSION:2.0
PRODID:-//eventon.com NONSGML v1.0//EN
CALSCALE:GREGORIAN
METHOD:PUBLISH
BEGIN:VEVENT
UID:69e781d96c6ad
DTSTAMP:20260421T135537Z
DTSTART:20250620T183000Z
DTEND:20250620T215000Z
LOCATION:
SUMMARY:Julien Daïan Quintet @ Le Kiosq / Saint-Nazaire (44)
DESCRIPTION:Julien Daïan Quintet @ Le Kiosq / Saint-Nazaire (44)\nhttps://
 jeremybruger.fr/concert/julien-daian-quintet-le-kiosq-saint-nazaire-44/
URL:https://jeremybruger.fr/concert/julien-daian-quintet-le-kiosq-saint-nazaire-44/
END:VEVENT
END:VCALENDAR