BEGIN:VCALENDAR
VERSION:2.0
PRODID:-//eventon.com NONSGML v1.0//EN
CALSCALE:GREGORIAN
METHOD:PUBLISH
BEGIN:VEVENT
UID:69e76fe27a6e3
DTSTAMP:20260421T123858Z
DTSTART:20250628T163000Z
DTEND:20250628T215000Z
LOCATION:
SUMMARY:Jérémy Bruger Solo @ Grand Hôtel de Cabourg / Cabourg (14)
DESCRIPTION:\nhttps://jeremybruger.fr/concert/jeremy-bruger-solo-grand-hote
 l-de-cabourg-cabourg-14-2/
URL:https://jeremybruger.fr/concert/jeremy-bruger-solo-grand-hotel-de-cabourg-cabourg-14-2/
END:VEVENT
END:VCALENDAR