BEGIN:VCALENDAR
VERSION:2.0
PRODID:-//eventon.com NONSGML v1.0//EN
CALSCALE:GREGORIAN
METHOD:PUBLISH
BEGIN:VEVENT
UID:69e781a4e339a
DTSTAMP:20260421T135444Z
DTSTART:20250523T170000Z
DTEND:20250523T215000Z
LOCATION:
SUMMARY:Patricia Setbon Trio @ ARTHôtel / Le Havre (76)
DESCRIPTION:w/ Patricia Setbon (vcl) & Doriane Dezou (cb)\nhttps://jeremybr
 uger.fr/concert/patricia-setbon-trio-arthotel-le-havre-76/
URL:https://jeremybruger.fr/concert/patricia-setbon-trio-arthotel-le-havre-76/
END:VEVENT
END:VCALENDAR