BEGIN:VCALENDAR
VERSION:2.0
PRODID:-//eventon.com NONSGML v1.0//EN
CALSCALE:GREGORIAN
METHOD:PUBLISH
BEGIN:VEVENT
UID:69e76f67a553e
DTSTAMP:20260421T123655Z
DTSTART:20260130T173000Z
DTEND:20260130T225000Z
LOCATION:
SUMMARY:Vicki Rummler Duo @ ARTHôtel / Le Havre (76)
DESCRIPTION:w/ Vicki Rummler (vcl)\nhttps://jeremybruger.fr/concert/vicki-r
 ummler-duo-arthotel-le-havre-76/
URL:https://jeremybruger.fr/concert/vicki-rummler-duo-arthotel-le-havre-76/
END:VEVENT
END:VCALENDAR